BEGIN:VCALENDAR
VERSION:2.0
PRODID:-//ワケルネット - 仙台市ごみ減量・リサイクル情報総合サイト - ECPv6.0.11//NONSGML v1.0//EN
CALSCALE:GREGORIAN
METHOD:PUBLISH
X-ORIGINAL-URL:https://www.gomi100.com
X-WR-CALDESC:ワケルネット - 仙台市ごみ減量・リサイクル情報総合サイト のイベント
REFRESH-INTERVAL;VALUE=DURATION:PT1H
X-Robots-Tag:noindex
X-PUBLISHED-TTL:PT1H
BEGIN:VTIMEZONE
TZID:Asia/Tokyo
BEGIN:STANDARD
TZOFFSETFROM:+0900
TZOFFSETTO:+0900
TZNAME:JST
DTSTART:20230101T000000
END:STANDARD
END:VTIMEZONE
BEGIN:VEVENT
DTSTART;TZID=Asia/Tokyo:20230803T100000
DTEND;TZID=Asia/Tokyo:20230803T120000
DTSTAMP:20260420T063013
CREATED:20230718T065902Z
LAST-MODIFIED:20230718T070319Z
UID:7211-1691056800-1691064000@www.gomi100.com
SUMMARY:夏休み親子教室（葛岡リサイクルプラザ）
DESCRIPTION:●葛岡リサイクルプラザ「夏休み親子教室」の開催について \n葛岡リサイクルプラザにて、小学生とその保護者を対象にとした、「夏休み親子教室」を開催します。 \n \n１　内容\n小学生とその保護者を対象に「手作りキャンドル」の制作体験を行います。\nまた、作品の冷却時間中にごみの減量に関するゲーム大会等を行い、ごみの分別について学びます。参加者にはリユース品のおもちゃのプレゼントもございます。 \n２　開催日時\n令和５年８月３日(木)　10：00～12：00\n※当日は9：50に開催場所にお越しください。 \n３　開催場所\n葛岡リサイクルプラザ　会議室\n所在地：仙台市青葉区郷六字葛岡57-1 \n４　対象\n小学生とその保護者10組（先着） \n５　申込み方法\n葛岡リサイクルプラザに電話でお申し込み下さい。\n受付期間：令和５年８月１日　16：00まで\n電　話：022-277-8573
URL:https://www.gomi100.com/event/%e5%a4%8f%e4%bc%91%e3%81%bf%e8%a6%aa%e5%ad%90%e6%95%99%e5%ae%a4%ef%bc%88%e8%91%9b%e5%b2%a1%e3%83%aa%e3%82%b5%e3%82%a4%e3%82%af%e3%83%ab%e3%83%97%e3%83%a9%e3%82%b6%ef%bc%89
CATEGORIES:イベント
END:VEVENT
END:VCALENDAR