BEGIN:VCALENDAR
VERSION:2.0
PRODID:-//ワケルネット - 仙台市ごみ減量・リサイクル情報総合サイト - ECPv6.0.11//NONSGML v1.0//EN
CALSCALE:GREGORIAN
METHOD:PUBLISH
X-WR-CALNAME:ワケルネット - 仙台市ごみ減量・リサイクル情報総合サイト
X-ORIGINAL-URL:https://www.gomi100.com
X-WR-CALDESC:ワケルネット - 仙台市ごみ減量・リサイクル情報総合サイト のイベント
REFRESH-INTERVAL;VALUE=DURATION:PT1H
X-Robots-Tag:noindex
X-PUBLISHED-TTL:PT1H
BEGIN:VTIMEZONE
TZID:Asia/Tokyo
BEGIN:STANDARD
TZOFFSETFROM:+0900
TZOFFSETTO:+0900
TZNAME:JST
DTSTART:20230101T000000
END:STANDARD
END:VTIMEZONE
BEGIN:VEVENT
DTSTART;TZID=Asia/Tokyo:20230806T133000
DTEND;TZID=Asia/Tokyo:20230806T150000
DTSTAMP:20260420T062503
CREATED:20230720T022456Z
LAST-MODIFIED:20230720T022456Z
UID:7257-1691328600-1691334000@www.gomi100.com
SUMMARY:プラスチックとのつきあいかた
DESCRIPTION:くらしのなかにあるたくさんのプラスチックたち。とても便利で使いやすくみんなが使うもの。半面、困ったものになってしまうこともあります。「プラスチックとのつきあいかた」を考えてみましょう。そして、海辺のマイクロプラスチックを使ってオリジナルの万華鏡を作ります。 \n日時：8/6（日）13:30～15:00 \n場所：東北大学青葉山新キャンパス環境科学研究科本館（J22）1F展示スペース2 \n定員:20名（抽選）※当選者にのみご連絡 \n対象:小学校3年生～ \n申込:①氏名/フリガナ/年齢（全員分 ）②住所③連絡先を記入のうえ、tamaki3salon@city.sendai.jpへ7/27（木）までに返信。
URL:https://www.gomi100.com/event/%e3%83%97%e3%83%a9%e3%82%b9%e3%83%81%e3%83%83%e3%82%af%e3%81%a8%e3%81%ae%e3%81%a4%e3%81%8d%e3%81%82%e3%81%84%e3%81%8b%e3%81%9f
LOCATION:東北大学青葉山新キャンパス環境科学研究科本館（J22）１F展示スペース2\, 青葉区荒巻青葉468-1
CATEGORIES:イベント
END:VEVENT
END:VCALENDAR