BEGIN:VCALENDAR
VERSION:2.0
PRODID:-//ワケルネット - 仙台市ごみ減量・リサイクル情報総合サイト - ECPv6.0.11//NONSGML v1.0//EN
CALSCALE:GREGORIAN
METHOD:PUBLISH
X-WR-CALNAME:ワケルネット - 仙台市ごみ減量・リサイクル情報総合サイト
X-ORIGINAL-URL:https://www.gomi100.com
X-WR-CALDESC:ワケルネット - 仙台市ごみ減量・リサイクル情報総合サイト のイベント
REFRESH-INTERVAL;VALUE=DURATION:PT1H
X-Robots-Tag:noindex
X-PUBLISHED-TTL:PT1H
BEGIN:VTIMEZONE
TZID:Asia/Tokyo
BEGIN:STANDARD
TZOFFSETFROM:+0900
TZOFFSETTO:+0900
TZNAME:JST
DTSTART:20230101T000000
END:STANDARD
END:VTIMEZONE
BEGIN:VEVENT
DTSTART;TZID=Asia/Tokyo:20230819T100000
DTEND;TZID=Asia/Tokyo:20230819T120000
DTSTAMP:20260420T075909
CREATED:20230718T070908Z
LAST-MODIFIED:20230718T070908Z
UID:7216-1692439200-1692446400@www.gomi100.com
SUMMARY:親子教室（今泉リサイクルプラザ）
DESCRIPTION:●今泉リサイクルプラザ「夏休み親子教室」の開催について \n今泉リサイクルプラザにて、小学生とその保護者を対象にとした、「夏休み親子教室」を開催します。 \n \n  \n１　内容\n小学生とその保護者を対象にDVD視聴による「ごみ減量講座」及び廃割りばしを利用した「ゴム鉄砲作り」を実施します。作製したゴム鉄砲を使って射的大会を行い、点数に応じて景品をプレゼント。夏休み親子教室を通してリユース・リサイクルに関心を持とう！ \n２　開催日時\n令和５年８月19日（土）　10：00～12：00\n※当日は9：50に開催場所にお越しください。 \n３　開催場所\n若林環境事業所　２階研修室\n所在地：仙台市若林区今泉字上新田103 \n４　対象\n市内に居住する小学生とその保護者10組（先着） \n５　参加要件\n親子１組あたり割りばしを３膳ご持参ください。 \n６　申込み方法\n今泉リサイクルプラザに電話でお申し込み下さい。\n申込〆切：令和５年８月６日（日）　16：00まで\n電　話：022-289-6401
URL:https://www.gomi100.com/event/%e8%a6%aa%e5%ad%90%e6%95%99%e5%ae%a4%ef%bc%88%e4%bb%8a%e6%b3%89%e3%83%aa%e3%82%b5%e3%82%a4%e3%82%af%e3%83%ab%e3%83%97%e3%83%a9%e3%82%b6%ef%bc%89
CATEGORIES:イベント
END:VEVENT
BEGIN:VEVENT
DTSTART;TZID=Asia/Tokyo:20230819T110000
DTEND;TZID=Asia/Tokyo:20230819T180000
DTSTAMP:20260420T075909
CREATED:20230719T024210Z
LAST-MODIFIED:20230719T024702Z
UID:7253-1692442800-1692468000@www.gomi100.com
SUMMARY:オリジナルマイバッグをつくろう
DESCRIPTION:布用クレヨンで自由にイラストを描いたり、シルクスクリーンで好きな絵柄をプリントして、世界に一つだけのマイバッグをつくろう！ \n参加費:500円～ \n日時:8/19（土）11:00～18:00 \n場所:無印良品　仙台ロフト \n定員:インクがなくなり次第終了 \n対象:どなたでも※6歳以下のお子様は保護者の方とご参加ください。 \n申込:不要
URL:https://www.gomi100.com/event/%e3%82%aa%e3%83%aa%e3%82%b8%e3%83%8a%e3%83%ab%e3%83%9e%e3%82%a4%e3%83%90%e3%83%83%e3%82%b0%e3%82%92%e3%81%a4%e3%81%8f%e3%82%8d%e3%81%86
LOCATION:無印良品　仙台ロフト\, 青葉区中央1丁目10-10
CATEGORIES:イベント
END:VEVENT
END:VCALENDAR