BEGIN:VCALENDAR
VERSION:2.0
PRODID:-//ワケルネット - 仙台市ごみ減量・リサイクル情報総合サイト - ECPv6.0.11//NONSGML v1.0//EN
CALSCALE:GREGORIAN
METHOD:PUBLISH
X-ORIGINAL-URL:https://www.gomi100.com
X-WR-CALDESC:ワケルネット - 仙台市ごみ減量・リサイクル情報総合サイト のイベント
REFRESH-INTERVAL;VALUE=DURATION:PT1H
X-Robots-Tag:noindex
X-PUBLISHED-TTL:PT1H
BEGIN:VTIMEZONE
TZID:Asia/Tokyo
BEGIN:STANDARD
TZOFFSETFROM:+0900
TZOFFSETTO:+0900
TZNAME:JST
DTSTART:20230101T000000
END:STANDARD
END:VTIMEZONE
BEGIN:VEVENT
DTSTART;TZID=Asia/Tokyo:20230830T125000
DTEND;TZID=Asia/Tokyo:20230830T160000
DTSTAMP:20260420T064315
CREATED:20230720T023309Z
LAST-MODIFIED:20230720T023834Z
UID:7259-1693399800-1693411200@www.gomi100.com
SUMMARY:ごみのゆくえを見てみよう！ワケルくんバスで行く工場ツアー
DESCRIPTION:この4月からスタートした、プラごみ一括回収。回収された後、どう処理されているか気になりませんか？プラスチック資源をリサイクルする工場、下水処理をする工場を見てみよう！ \n日時:8/30（水）12:50～16:00 \n場所:仙台市役所噴水前集合 \n定員:40名 \n対象:どなたでも \n申込:8/9（水）まで　下記URLより \nhttps://docs.google.com/forms/d/e/1FAIpQLScNadTPzUyK85mf-5gEMb87idKUKCevJqxMGyXSI9fs5S3bnw/viewform?pli=1
URL:https://www.gomi100.com/event/%e3%81%94%e3%81%bf%e3%81%ae%e3%82%86%e3%81%8f%e3%81%88%e3%82%92%e8%a6%8b%e3%81%a6%e3%81%bf%e3%82%88%e3%81%86%ef%bc%81%e3%83%af%e3%82%b1%e3%83%ab%e3%81%8f%e3%82%93%e3%83%90%e3%82%b9%e3%81%a7%e8%a1%8c
LOCATION:仙台市役所\, 青葉区国分町3丁目7-1
END:VEVENT
END:VCALENDAR